BEGIN:VCALENDAR
PRODID:-//Google Inc//Google Calendar 70.9054//EN
VERSION:2.0
CALSCALE:GREGORIAN
METHOD:CANCEL
BEGIN:VTIMEZONE
TZID:Europe/London
X-LIC-LOCATION:Europe/London
BEGIN:DAYLIGHT
TZOFFSETFROM:+0000
TZOFFSETTO:+0100
TZNAME:GMT+1
DTSTART:19700329T010000
RRULE:FREQ=YEARLY;BYMONTH=3;BYDAY=-1SU
END:DAYLIGHT
BEGIN:STANDARD
TZOFFSETFROM:+0100
TZOFFSETTO:+0000
TZNAME:GMT
DTSTART:19701025T020000
RRULE:FREQ=YEARLY;BYMONTH=10;BYDAY=-1SU
END:STANDARD
END:VTIMEZONE
BEGIN:VEVENT
DTSTART;TZID=Europe/London:20250916T150000
DTEND;TZID=Europe/London:20250916T160000
DTSTAMP:20250915T125903Z
ORGANIZER;CN=bill.fletcher@linaro.org:mailto:bill.fletcher@linaro.org
UID:5efm536isag02cbvkuftgm7i7m_R20241119T150000@google.com
RECURRENCE-ID;TZID=Europe/London:20250916T150000
CREATED:20210604T145305Z
LAST-MODIFIED:20250915T125817Z
SEQUENCE:1
STATUS:CANCELLED
SUMMARY:Open-CMSIS-Pack WG Meeting
TRANSP:OPAQUE
END:VEVENT
END:VCALENDAR
