BEGIN:VCALENDAR
PRODID:-//Google Inc//Google Calendar 70.9054//EN
VERSION:2.0
CALSCALE:GREGORIAN
METHOD:CANCEL
BEGIN:VTIMEZONE
TZID:Europe/London
X-LIC-LOCATION:Europe/London
BEGIN:DAYLIGHT
TZOFFSETFROM:+0000
TZOFFSETTO:+0100
TZNAME:BST
DTSTART:19700329T010000
RRULE:FREQ=YEARLY;BYMONTH=3;BYDAY=-1SU
END:DAYLIGHT
BEGIN:STANDARD
TZOFFSETFROM:+0100
TZOFFSETTO:+0000
TZNAME:GMT
DTSTART:19701025T020000
RRULE:FREQ=YEARLY;BYMONTH=10;BYDAY=-1SU
END:STANDARD
END:VTIMEZONE
BEGIN:VEVENT
DTSTART;TZID=Europe/London:20231219T150000
DTEND;TZID=Europe/London:20231219T160000
DTSTAMP:20231211T102342Z
ORGANIZER;CN=Bill Fletcher:mailto:bill.fletcher@linaro.org
UID:5efm536isag02cbvkuftgm7i7m_R20230822T140000@google.com
ATTENDEE;CUTYPE=INDIVIDUAL;ROLE=REQ-PARTICIPANT;PARTSTAT=ACCEPTED;CN=Bill F
 letcher;X-NUM-GUESTS=0:mailto:bill.fletcher@linaro.org
ATTENDEE;CUTYPE=INDIVIDUAL;ROLE=REQ-PARTICIPANT;PARTSTAT=NEEDS-ACTION;CN=la
 urent.meunier@st.com;X-NUM-GUESTS=0:mailto:laurent.meunier@st.com
ATTENDEE;CUTYPE=INDIVIDUAL;ROLE=REQ-PARTICIPANT;PARTSTAT=NEEDS-ACTION;CN=da
 niel.brondani@arm.com;X-NUM-GUESTS=0:mailto:daniel.brondani@arm.com
ATTENDEE;CUTYPE=INDIVIDUAL;ROLE=REQ-PARTICIPANT;PARTSTAT=NEEDS-ACTION;CN=ba
 rtek.szatkowski@arm.com;X-NUM-GUESTS=0:mailto:bartek.szatkowski@arm.com
ATTENDEE;CUTYPE=INDIVIDUAL;ROLE=REQ-PARTICIPANT;PARTSTAT=NEEDS-ACTION;CN=ma
 rcelo.salazar@arm.com;X-NUM-GUESTS=0:mailto:marcelo.salazar@arm.com
ATTENDEE;CUTYPE=INDIVIDUAL;ROLE=REQ-PARTICIPANT;PARTSTAT=NEEDS-ACTION;CN=jo
 natan.antoni@arm.com;X-NUM-GUESTS=0:mailto:jonatan.antoni@arm.com
ATTENDEE;CUTYPE=INDIVIDUAL;ROLE=REQ-PARTICIPANT;PARTSTAT=NEEDS-ACTION;CN=jo
 achim.krech@arm.com;X-NUM-GUESTS=0:mailto:joachim.krech@arm.com
ATTENDEE;CUTYPE=INDIVIDUAL;ROLE=REQ-PARTICIPANT;PARTSTAT=NEEDS-ACTION;CN=gr
 aham.hammond@arm.com;X-NUM-GUESTS=0:mailto:graham.hammond@arm.com
ATTENDEE;CUTYPE=INDIVIDUAL;ROLE=REQ-PARTICIPANT;PARTSTAT=NEEDS-ACTION;CN=ma
 rk.goodchild@renesas.com;X-NUM-GUESTS=0:mailto:mark.goodchild@renesas.com
ATTENDEE;CUTYPE=INDIVIDUAL;ROLE=REQ-PARTICIPANT;PARTSTAT=NEEDS-ACTION;CN=mg
 oodner@microsoft.com;X-NUM-GUESTS=0:mailto:mgoodner@microsoft.com
ATTENDEE;CUTYPE=INDIVIDUAL;ROLE=REQ-PARTICIPANT;PARTSTAT=NEEDS-ACTION;CN=re
 inhard.keil@arm.com;X-NUM-GUESTS=0:mailto:reinhard.keil@arm.com
ATTENDEE;CUTYPE=INDIVIDUAL;ROLE=REQ-PARTICIPANT;PARTSTAT=NEEDS-ACTION;CN=ja
 eden.amero@arm.com;X-NUM-GUESTS=0:mailto:jaeden.amero@arm.com
ATTENDEE;CUTYPE=INDIVIDUAL;ROLE=REQ-PARTICIPANT;PARTSTAT=NEEDS-ACTION;CN=ma
 rk.edgeworth@arm.com;X-NUM-GUESTS=0:mailto:mark.edgeworth@arm.com
ATTENDEE;CUTYPE=INDIVIDUAL;ROLE=REQ-PARTICIPANT;PARTSTAT=NEEDS-ACTION;CN=ev
 gueni.driouk@arm.com;X-NUM-GUESTS=0:mailto:evgueni.driouk@arm.com
ATTENDEE;CUTYPE=INDIVIDUAL;ROLE=REQ-PARTICIPANT;PARTSTAT=NEEDS-ACTION;CN=ro
 b.moran@arm.com;X-NUM-GUESTS=0:mailto:rob.moran@arm.com
ATTENDEE;CUTYPE=INDIVIDUAL;ROLE=REQ-PARTICIPANT;PARTSTAT=NEEDS-ACTION;CN=jo
 hn.penn@arm.com;X-NUM-GUESTS=0:mailto:john.penn@arm.com
ATTENDEE;CUTYPE=INDIVIDUAL;ROLE=REQ-PARTICIPANT;PARTSTAT=NEEDS-ACTION;CN=we
 n.chou@arm.com;X-NUM-GUESTS=0:mailto:wen.chou@arm.com
ATTENDEE;CUTYPE=INDIVIDUAL;ROLE=REQ-PARTICIPANT;PARTSTAT=NEEDS-ACTION;CN=ma
 thias.brossard@arm.com;X-NUM-GUESTS=0:mailto:mathias.brossard@arm.com
ATTENDEE;CUTYPE=INDIVIDUAL;ROLE=REQ-PARTICIPANT;PARTSTAT=NEEDS-ACTION;CN=ma
 tthew.gordon@arm.com;X-NUM-GUESTS=0:mailto:matthew.gordon@arm.com
ATTENDEE;CUTYPE=INDIVIDUAL;ROLE=REQ-PARTICIPANT;PARTSTAT=NEEDS-ACTION;CN=ch
 ris.reed@arm.com;X-NUM-GUESTS=0:mailto:chris.reed@arm.com
ATTENDEE;CUTYPE=INDIVIDUAL;ROLE=REQ-PARTICIPANT;PARTSTAT=NEEDS-ACTION;CN=sa
 muel.taylor@arm.com;X-NUM-GUESTS=0:mailto:samuel.taylor@arm.com
ATTENDEE;CUTYPE=INDIVIDUAL;ROLE=REQ-PARTICIPANT;PARTSTAT=NEEDS-ACTION;CN=ky
 le.dando@nxp.com;X-NUM-GUESTS=0:mailto:kyle.dando@nxp.com
ATTENDEE;CUTYPE=INDIVIDUAL;ROLE=REQ-PARTICIPANT;PARTSTAT=NEEDS-ACTION;CN=fr
 ederic.ruelle@st.com;X-NUM-GUESTS=0:mailto:frederic.ruelle@st.com
ATTENDEE;CUTYPE=INDIVIDUAL;ROLE=REQ-PARTICIPANT;PARTSTAT=NEEDS-ACTION;CN=wi
 ll.lord@arm.com;X-NUM-GUESTS=0:mailto:will.lord@arm.com
ATTENDEE;CUTYPE=INDIVIDUAL;ROLE=REQ-PARTICIPANT;PARTSTAT=NEEDS-ACTION;CN=wi
 lfried.chauveau@arm.com;X-NUM-GUESTS=0:mailto:wilfried.chauveau@arm.com
ATTENDEE;CUTYPE=INDIVIDUAL;ROLE=REQ-PARTICIPANT;PARTSTAT=NEEDS-ACTION;CN=er
 ic.finco@st.com;X-NUM-GUESTS=0:mailto:eric.finco@st.com
ATTENDEE;CUTYPE=INDIVIDUAL;ROLE=REQ-PARTICIPANT;PARTSTAT=NEEDS-ACTION;CN=so
 urabh.mehta@arm.com;X-NUM-GUESTS=0:mailto:sourabh.mehta@arm.com
ATTENDEE;CUTYPE=INDIVIDUAL;ROLE=REQ-PARTICIPANT;PARTSTAT=NEEDS-ACTION;CN=ia
 n.fyall@infineon.com;X-NUM-GUESTS=0:mailto:ian.fyall@infineon.com
ATTENDEE;CUTYPE=INDIVIDUAL;ROLE=REQ-PARTICIPANT;PARTSTAT=NEEDS-ACTION;CN=ro
 b.walton@arm.com;X-NUM-GUESTS=0:mailto:rob.walton@arm.com
ATTENDEE;CUTYPE=INDIVIDUAL;ROLE=REQ-PARTICIPANT;PARTSTAT=NEEDS-ACTION;CN=op
 en-cmsis-pack-dev@op-lists.linaro.org;X-NUM-GUESTS=0:mailto:open-cmsis-pack
 -dev@op-lists.linaro.org
ATTENDEE;CUTYPE=INDIVIDUAL;ROLE=REQ-PARTICIPANT;PARTSTAT=NEEDS-ACTION;X-NUM
 -GUESTS=0:mailto:stanislav.poboril@nxp.com
ATTENDEE;CUTYPE=INDIVIDUAL;ROLE=REQ-PARTICIPANT;PARTSTAT=NEEDS-ACTION;CN=Ta
 rek BOCHKATI;X-NUM-GUESTS=0:mailto:tarek.bouchkati@st.com
ATTENDEE;CUTYPE=INDIVIDUAL;ROLE=REQ-PARTICIPANT;PARTSTAT=NEEDS-ACTION;CN=Pe
 tr Hradsky;X-NUM-GUESTS=0:mailto:petr.hradsky@nxp.com
ATTENDEE;CUTYPE=INDIVIDUAL;ROLE=REQ-PARTICIPANT;PARTSTAT=NEEDS-ACTION;CN=Da
 vid Jurajda;X-NUM-GUESTS=0:mailto:david.jurajda@nxp.com
ATTENDEE;CUTYPE=INDIVIDUAL;ROLE=REQ-PARTICIPANT;PARTSTAT=NEEDS-ACTION;CN=Ho
 lt Sun;X-NUM-GUESTS=0:mailto:holt.sun@nxp.com
ATTENDEE;CUTYPE=INDIVIDUAL;ROLE=REQ-PARTICIPANT;PARTSTAT=NEEDS-ACTION;CN=ma
 rio.pierro@iar.com;X-NUM-GUESTS=0:mailto:mario.pierro@iar.com
ATTENDEE;CUTYPE=INDIVIDUAL;ROLE=REQ-PARTICIPANT;PARTSTAT=NEEDS-ACTION;CN=Ja
 mes Deadman;X-NUM-GUESTS=0:mailto:james.deadman@renesas.com
RECURRENCE-ID;TZID=Europe/London:20231219T150000
CREATED:20210604T145305Z
DESCRIPTION:Bill Fletcher is inviting you to a scheduled Zoom meeting<br><b
 r>Join Zoom Meeting<br><a href="https://linaro-org.zoom.us/j/98302382714?pw
 d=SVdtS0ZGWlg1cXVBRU9JUkpNa21CUT09">https://linaro-org.zoom.us/j/9830238271
 4?pwd=SVdtS0ZGWlg1cXVBRU9JUkpNa21CUT09</a><br><br>Meeting ID: 983 0238 2714
 <br>Passcode: 614667<br>One tap mobile<br>+16699009128\,\,98302382714# US (
 San Jose)<br>+17193594580\,\,98302382714# US<br><br>Dial by your location<b
 r>        +1 669 900 9128 US (San Jose)<br>        +1 719 359 4580 US<br>  
       +1 253 215 8782 US (Tacoma)<br>        +1 301 715 8592 US (Washington
  DC)<br>        +1 309 205 3325 US<br>        +1 312 626 6799 US (Chicago)<
 br>        +1 346 248 7799 US (Houston)<br>        +1 386 347 5053 US<br>  
       +1 564 217 2000 US<br>        +1 646 558 8656 US (New York)<br>      
   +1 646 931 3860 US<br>        +1 669 444 9171 US<br>        877 853 5247 
 US Toll-free<br>        888 788 0099 US Toll-free<br>Meeting ID: 983 0238 2
 714<br>Find your local number: <a href="https://linaro-org.zoom.us/u/acF4mm
 Bwy">https://linaro-org.zoom.us/u/acF4mmBwy</a>
LAST-MODIFIED:20231211T102338Z
LOCATION:https://linaro-org.zoom.us/j/98302382714?pwd=SVdtS0ZGWlg1cXVBRU9JU
 kpNa21CUT09
SEQUENCE:1
STATUS:CANCELLED
SUMMARY:Open-CMSIS-Pack WG Meeting
TRANSP:OPAQUE
END:VEVENT
END:VCALENDAR
