BEGIN:VCALENDAR
PRODID:-//Google Inc//Google Calendar 70.9054//EN
VERSION:2.0
CALSCALE:GREGORIAN
METHOD:REQUEST
BEGIN:VTIMEZONE
TZID:Europe/London
X-LIC-LOCATION:Europe/London
BEGIN:DAYLIGHT
TZOFFSETFROM:+0000
TZOFFSETTO:+0100
TZNAME:BST
DTSTART:19700329T010000
RRULE:FREQ=YEARLY;BYMONTH=3;BYDAY=-1SU
END:DAYLIGHT
BEGIN:STANDARD
TZOFFSETFROM:+0100
TZOFFSETTO:+0000
TZNAME:GMT
DTSTART:19701025T020000
RRULE:FREQ=YEARLY;BYMONTH=10;BYDAY=-1SU
END:STANDARD
END:VTIMEZONE
BEGIN:VEVENT
DTSTART;TZID=Europe/London:20220517T150000
DTEND;TZID=Europe/London:20220517T160000
RRULE:FREQ=WEEKLY;UNTIL=20220530T225959Z;BYDAY=TU
DTSTAMP:20220524T140023Z
ORGANIZER;CN=Bill Fletcher:mailto:bill.fletcher@linaro.org
UID:5efm536isag02cbvkuftgm7i7m_R20220517T140000@google.com
ATTENDEE;CUTYPE=INDIVIDUAL;ROLE=REQ-PARTICIPANT;PARTSTAT=DECLINED;RSVP=TRUE
 ;CN=Anmar Oueja;X-NUM-GUESTS=0:mailto:anmar.oueja@linaro.org
ATTENDEE;CUTYPE=INDIVIDUAL;ROLE=REQ-PARTICIPANT;PARTSTAT=ACCEPTED;RSVP=TRUE
 ;CN=Bill Fletcher;X-NUM-GUESTS=0:mailto:bill.fletcher@linaro.org
ATTENDEE;CUTYPE=INDIVIDUAL;ROLE=REQ-PARTICIPANT;PARTSTAT=NEEDS-ACTION;RSVP=
 TRUE;CN=mark.hicken@arm.com;X-NUM-GUESTS=0:mailto:mark.hicken@arm.com
ATTENDEE;CUTYPE=INDIVIDUAL;ROLE=REQ-PARTICIPANT;PARTSTAT=DECLINED;RSVP=TRUE
 ;CN=Reed Hinkel;X-NUM-GUESTS=0:mailto:reed.hinkel@arm.com
ATTENDEE;CUTYPE=INDIVIDUAL;ROLE=REQ-PARTICIPANT;PARTSTAT=ACCEPTED;RSVP=TRUE
 ;CN=Laurent MEUNIER;X-NUM-GUESTS=0:mailto:laurent.meunier@st.com
ATTENDEE;CUTYPE=INDIVIDUAL;ROLE=REQ-PARTICIPANT;PARTSTAT=ACCEPTED;RSVP=TRUE
 ;CN=Daniel Brondani;X-NUM-GUESTS=0:mailto:daniel.brondani@arm.com
ATTENDEE;CUTYPE=INDIVIDUAL;ROLE=REQ-PARTICIPANT;PARTSTAT=TENTATIVE;RSVP=TRU
 E;CN=Bartek Szatkowski;X-NUM-GUESTS=0:mailto:bartek.szatkowski@arm.com
ATTENDEE;CUTYPE=INDIVIDUAL;ROLE=REQ-PARTICIPANT;PARTSTAT=TENTATIVE;RSVP=TRU
 E;CN=Marcelo Salazar;X-NUM-GUESTS=0:mailto:marcelo.salazar@arm.com
ATTENDEE;CUTYPE=INDIVIDUAL;ROLE=REQ-PARTICIPANT;PARTSTAT=ACCEPTED;RSVP=TRUE
 ;CN=Jonatan Antoni;X-NUM-GUESTS=0:mailto:jonatan.antoni@arm.com
ATTENDEE;CUTYPE=INDIVIDUAL;ROLE=REQ-PARTICIPANT;PARTSTAT=ACCEPTED;RSVP=TRUE
 ;CN=Abhishek Pandit;X-NUM-GUESTS=0:mailto:abhishek.pandit@arm.com
ATTENDEE;CUTYPE=INDIVIDUAL;ROLE=REQ-PARTICIPANT;PARTSTAT=ACCEPTED;RSVP=TRUE
 ;CN=Charles Oliveira;X-NUM-GUESTS=0:mailto:charles.oliveira@linaro.org
ATTENDEE;CUTYPE=INDIVIDUAL;ROLE=REQ-PARTICIPANT;PARTSTAT=ACCEPTED;RSVP=TRUE
 ;CN=Joachim Krech;X-NUM-GUESTS=0:mailto:joachim.krech@arm.com
ATTENDEE;CUTYPE=INDIVIDUAL;ROLE=REQ-PARTICIPANT;PARTSTAT=TENTATIVE;RSVP=TRU
 E;CN=Graham Hammond;X-NUM-GUESTS=0:mailto:graham.hammond@arm.com
ATTENDEE;CUTYPE=INDIVIDUAL;ROLE=REQ-PARTICIPANT;PARTSTAT=TENTATIVE;RSVP=TRU
 E;CN=Mark Goodchild;X-NUM-GUESTS=0:mailto:mark.goodchild@renesas.com
ATTENDEE;CUTYPE=INDIVIDUAL;ROLE=REQ-PARTICIPANT;PARTSTAT=NEEDS-ACTION;RSVP=
 TRUE;CN=mgoodner@microsoft.com;X-NUM-GUESTS=0:mailto:mgoodner@microsoft.com
ATTENDEE;CUTYPE=INDIVIDUAL;ROLE=REQ-PARTICIPANT;PARTSTAT=ACCEPTED;RSVP=TRUE
 ;CN=Reinhard Keil;X-NUM-GUESTS=0:mailto:reinhard.keil@arm.com
ATTENDEE;CUTYPE=INDIVIDUAL;ROLE=REQ-PARTICIPANT;PARTSTAT=TENTATIVE;RSVP=TRU
 E;CN=Jaeden Amero;X-NUM-GUESTS=0:mailto:jaeden.amero@arm.com
ATTENDEE;CUTYPE=INDIVIDUAL;ROLE=REQ-PARTICIPANT;PARTSTAT=DECLINED;RSVP=TRUE
 ;CN=Evelyne Donnaes;X-NUM-GUESTS=0:mailto:evelyne.donnaes@arm.com
ATTENDEE;CUTYPE=INDIVIDUAL;ROLE=REQ-PARTICIPANT;PARTSTAT=TENTATIVE;RSVP=TRU
 E;CN=Mark Edgeworth;X-NUM-GUESTS=0:mailto:mark.edgeworth@arm.com
ATTENDEE;CUTYPE=INDIVIDUAL;ROLE=REQ-PARTICIPANT;PARTSTAT=ACCEPTED;RSVP=TRUE
 ;CN=evgueni.driouk@arm.com;X-NUM-GUESTS=0:mailto:evgueni.driouk@arm.com
ATTENDEE;CUTYPE=INDIVIDUAL;ROLE=REQ-PARTICIPANT;PARTSTAT=TENTATIVE;RSVP=TRU
 E;CN=Rob Moran;X-NUM-GUESTS=0:mailto:rob.moran@arm.com
ATTENDEE;CUTYPE=INDIVIDUAL;ROLE=REQ-PARTICIPANT;PARTSTAT=NEEDS-ACTION;RSVP=
 TRUE;CN=john.penn@arm.com;X-NUM-GUESTS=0:mailto:john.penn@arm.com
ATTENDEE;CUTYPE=INDIVIDUAL;ROLE=REQ-PARTICIPANT;PARTSTAT=ACCEPTED;RSVP=TRUE
 ;CN=Wen Chou;X-NUM-GUESTS=0:mailto:wen.chou@arm.com
ATTENDEE;CUTYPE=INDIVIDUAL;ROLE=REQ-PARTICIPANT;PARTSTAT=ACCEPTED;RSVP=TRUE
 ;CN=luis.tonicha@linaro.org;X-NUM-GUESTS=0:mailto:luis.tonicha@linaro.org
ATTENDEE;CUTYPE=INDIVIDUAL;ROLE=REQ-PARTICIPANT;PARTSTAT=TENTATIVE;RSVP=TRU
 E;CN=Mathias Brossard;X-NUM-GUESTS=0:mailto:mathias.brossard@arm.com
ATTENDEE;CUTYPE=INDIVIDUAL;ROLE=REQ-PARTICIPANT;PARTSTAT=TENTATIVE;RSVP=TRU
 E;CN=Matthew Gordon;X-NUM-GUESTS=0:mailto:matthew.gordon@arm.com
ATTENDEE;CUTYPE=INDIVIDUAL;ROLE=REQ-PARTICIPANT;PARTSTAT=TENTATIVE;RSVP=TRU
 E;CN=Chris Reed;X-NUM-GUESTS=0:mailto:chris.reed@arm.com
ATTENDEE;CUTYPE=INDIVIDUAL;ROLE=REQ-PARTICIPANT;PARTSTAT=ACCEPTED;RSVP=TRUE
 ;CN=open-cmsis-pack-dev@op-lists.linaro.org;X-NUM-GUESTS=0:mailto:open-cmsi
 s-pack-dev@op-lists.linaro.org
ATTENDEE;CUTYPE=INDIVIDUAL;ROLE=REQ-PARTICIPANT;PARTSTAT=DECLINED;RSVP=TRUE
 ;X-NUM-GUESTS=0:mailto:stanislav.poboril@nxp.com
ATTENDEE;CUTYPE=INDIVIDUAL;ROLE=REQ-PARTICIPANT;PARTSTAT=ACCEPTED;RSVP=TRUE
 ;CN=Tarek BOCHKATI;X-NUM-GUESTS=0:mailto:tarek.bouchkati@st.com
ATTENDEE;CUTYPE=INDIVIDUAL;ROLE=REQ-PARTICIPANT;PARTSTAT=TENTATIVE;RSVP=TRU
 E;CN=Petr Hradsky;X-NUM-GUESTS=0:mailto:petr.hradsky@nxp.com
ATTENDEE;CUTYPE=INDIVIDUAL;ROLE=REQ-PARTICIPANT;PARTSTAT=ACCEPTED;RSVP=TRUE
 ;CN=David Jurajda;X-NUM-GUESTS=0:mailto:david.jurajda@nxp.com
ATTENDEE;CUTYPE=INDIVIDUAL;ROLE=REQ-PARTICIPANT;PARTSTAT=ACCEPTED;RSVP=TRUE
 ;CN=Holt Sun;X-NUM-GUESTS=0:mailto:holt.sun@nxp.com
ATTENDEE;CUTYPE=INDIVIDUAL;ROLE=REQ-PARTICIPANT;PARTSTAT=ACCEPTED;RSVP=TRUE
 ;CN=Kyle Dando;X-NUM-GUESTS=0:mailto:kyle.dando@nxp.com
X-GOOGLE-CONFERENCE:https://meet.google.com/std-wejh-jgi
X-MICROSOFT-CDO-OWNERAPPTID:592197944
CREATED:20210604T145305Z
DESCRIPTION:Migration to Linaro meeting invite from 8th June\n\n-::~:~::~:~
 :~:~:~:~:~:~:~:~:~:~:~:~:~:~:~:~:~:~:~:~:~:~:~:~:~:~:~:~:~:~:~:~:~:~::~:~::
 -\nDo not edit this section of the description.\n\nThis event has a video c
 all.\nJoin: https://meet.google.com/std-wejh-jgi\n(GB) +44 20 3910 5397 PIN
 : 790256432#\nView more phone numbers: https://tel.meet/std-wejh-jgi?pin=27
 54594436210&hs=7\n\nView your event at https://calendar.google.com/calendar
 /event?action=VIEW&eid=NWVmbTUzNmlzYWcwMmNidmt1ZnRnbTdpN21fUjIwMjIwNTE3VDE0
 MDAwMCBvcGVuLWNtc2lzLXBhY2stZGV2QG9wLWxpc3RzLmxpbmFyby5vcmc&tok=MjQjYmlsbC5
 mbGV0Y2hlckBsaW5hcm8ub3JnMjFmMTRhOTMzMzQ3MjVhYWYxNTcwODQyMmNhNTdkOWY1NmU4YW
 MzMQ&ctz=Europe%2FLondon&hl=en_GB&es=0.\n-::~:~::~:~:~:~:~:~:~:~:~:~:~:~:~:
 ~:~:~:~:~:~:~:~:~:~:~:~:~:~:~:~:~:~:~:~:~:~:~::~:~::-
LAST-MODIFIED:20220524T140020Z
LOCATION:
SEQUENCE:0
STATUS:CONFIRMED
SUMMARY:Open-CMSIS-Pack WG Meeting
TRANSP:OPAQUE
END:VEVENT
END:VCALENDAR
